BEGIN:VCALENDAR
VERSION:2.0
PRODID:-//pretix//pretix.eu//
BEGIN:VTIMEZONE
TZID:Europe/Zurich
BEGIN:STANDARD
DTSTART:20001029T040000
RRULE:FREQ=YEARLY;BYDAY=-1SU;BYMONTH=10
TZNAME:CET
TZOFFSETFROM:+0200
TZOFFSETTO:+0100
END:STANDARD
BEGIN:DAYLIGHT
DTSTART:20000326T030000
RRULE:FREQ=YEARLY;BYDAY=-1SU;BYMONTH=3
TZNAME:CEST
TZOFFSETFROM:+0100
TZOFFSETTO:+0200
END:DAYLIGHT
END:VTIMEZONE
BEGIN:VEVENT
UID:pretix-theater-12.06.2026-4922956@tickets.vorstadttheaterbasel.ch
DTSTART;TZID=Europe/Zurich:20260614T110000
DTEND;TZID=Europe/Zurich:20260614T190000
DESCRIPTION:Tickets: https://tickets.vorstadttheaterbasel.ch/12.06.2026/492
 2956/\nVeranstalter: Vorstadttheater
DTSTAMP:20260422T124013Z
LOCATION:Vorstadttheater Basel\, Allschwilerplatz 22\, CH-4055 Basel
SUMMARY:Grr..Grr..Grrrimmmmm
END:VEVENT
END:VCALENDAR
