BEGIN:VCALENDAR
VERSION:2.0
PRODID:-//pretix//pretix.eu//
BEGIN:VTIMEZONE
TZID:Europe/Zurich
BEGIN:STANDARD
DTSTART:20001029T040000
RRULE:FREQ=YEARLY;BYDAY=-1SU;BYMONTH=10
TZNAME:CET
TZOFFSETFROM:+0200
TZOFFSETTO:+0100
END:STANDARD
BEGIN:DAYLIGHT
DTSTART:20000326T030000
RRULE:FREQ=YEARLY;BYDAY=-1SU;BYMONTH=3
TZNAME:CEST
TZOFFSETFROM:+0100
TZOFFSETTO:+0200
END:DAYLIGHT
END:VTIMEZONE
BEGIN:VEVENT
UID:pretix-theater-gutscheine-0@tickets.vorstadttheaterbasel.ch
DTSTART;VALUE=DATE:20250601
DTEND;VALUE=DATE:20250602
DESCRIPTION:Tickets: https://tickets.vorstadttheaterbasel.ch/gutscheine/\nV
 eranstalter: Vorstadttheater
DTSTAMP:20260420T043741Z
LOCATION:Vorstadttheater Basel\, St. Alban-Vorstadt 12\, CH-4052 Basel
SUMMARY:Geschenkgutscheine
END:VEVENT
BEGIN:VEVENT
UID:pretix-theater-21.10.2025-4723800@tickets.vorstadttheaterbasel.ch
DTSTART;TZID=Europe/Zurich:20260320T100000
DTEND;TZID=Europe/Zurich:20260320T110000
DESCRIPTION:Tickets: https://tickets.vorstadttheaterbasel.ch/21.10.2025/472
 3800/\nVeranstalter: Vorstadttheater
DTSTAMP:20260420T043741Z
LOCATION:Vorstadttheater Basel\, Allschwilerplatz 22\, CH-4055 Basel\, info
 @vorstadttheaterbasel.ch\, +41 (0)61 272 23 43
SUMMARY:Nowhere Girl (Schulvorstellung)
END:VEVENT
BEGIN:VEVENT
UID:pretix-theater-18.10.2025-4750168@tickets.vorstadttheaterbasel.ch
DTSTART;TZID=Europe/Zurich:20260320T200000
DTEND;TZID=Europe/Zurich:20260320T210000
DESCRIPTION:Tickets: https://tickets.vorstadttheaterbasel.ch/18.10.2025/475
 0168/\nVeranstalter: Vorstadttheater
DTSTAMP:20260420T043741Z
LOCATION:Vorstadttheater Basel\, Allschwilerplatz 22\, CH-4055 Basel
SUMMARY:Nowhere Girl
END:VEVENT
BEGIN:VEVENT
UID:pretix-theater-18.10.2025-4750169@tickets.vorstadttheaterbasel.ch
DTSTART;TZID=Europe/Zurich:20260321T200000
DTEND;TZID=Europe/Zurich:20260321T210000
DESCRIPTION:Tickets: https://tickets.vorstadttheaterbasel.ch/18.10.2025/475
 0169/\nVeranstalter: Vorstadttheater
DTSTAMP:20260420T043741Z
LOCATION:Vorstadttheater Basel\, Allschwilerplatz 22\, CH-4055 Basel
SUMMARY:Nowhere Girl
END:VEVENT
BEGIN:VEVENT
UID:pretix-theater-18.10.2025-4750172@tickets.vorstadttheaterbasel.ch
DTSTART;TZID=Europe/Zurich:20260322T170000
DTEND;TZID=Europe/Zurich:20260322T180000
DESCRIPTION:Tickets: https://tickets.vorstadttheaterbasel.ch/18.10.2025/475
 0172/\nVeranstalter: Vorstadttheater
DTSTAMP:20260420T043741Z
LOCATION:Vorstadttheater Basel\, Allschwilerplatz 22\, CH-4055 Basel
SUMMARY:Nowhere Girl
END:VEVENT
BEGIN:VEVENT
UID:pretix-theater-18.02.2025-4723802@tickets.vorstadttheaterbasel.ch
DTSTART;TZID=Europe/Zurich:20260416T103000
DTEND;TZID=Europe/Zurich:20260416T113000
DESCRIPTION:Tickets: https://tickets.vorstadttheaterbasel.ch/18.02.2025/472
 3802/\nVeranstalter: Vorstadttheater
DTSTAMP:20260420T043741Z
LOCATION:Vorstadttheater Basel\, Allschwilerplatz 22\, CH-4055 Basel\, info
 @vorstadttheaterbasel.ch\, +41 (0)61 272 23 43
SUMMARY:Schöne Dinge (Schulvorstellung)
END:VEVENT
BEGIN:VEVENT
UID:pretix-theater-15.02.2025-4723805@tickets.vorstadttheaterbasel.ch
DTSTART;TZID=Europe/Zurich:20260417T200000
DTEND;TZID=Europe/Zurich:20260417T210000
DESCRIPTION:Tickets: https://tickets.vorstadttheaterbasel.ch/15.02.2025/472
 3805/\nVeranstalter: Vorstadttheater
DTSTAMP:20260420T043741Z
LOCATION:Vorstadttheater Basel\, Allschwilerplatz 22\, CH-4055 Basel
SUMMARY:Schöne Dinge
END:VEVENT
BEGIN:VEVENT
UID:pretix-theater-15.02.2025-4723806@tickets.vorstadttheaterbasel.ch
DTSTART;TZID=Europe/Zurich:20260418T170000
DTEND;TZID=Europe/Zurich:20260418T180000
DESCRIPTION:Tickets: https://tickets.vorstadttheaterbasel.ch/15.02.2025/472
 3806/\nVeranstalter: Vorstadttheater
DTSTAMP:20260420T043741Z
LOCATION:Vorstadttheater Basel\, Allschwilerplatz 22\, CH-4055 Basel
SUMMARY:Schöne Dinge
END:VEVENT
BEGIN:VEVENT
UID:pretix-theater-15.02.2025-4723807@tickets.vorstadttheaterbasel.ch
DTSTART;TZID=Europe/Zurich:20260419T110000
DTEND;TZID=Europe/Zurich:20260419T120000
DESCRIPTION:Tickets: https://tickets.vorstadttheaterbasel.ch/15.02.2025/472
 3807/\nVeranstalter: Vorstadttheater
DTSTAMP:20260420T043741Z
LOCATION:Vorstadttheater Basel\, Allschwilerplatz 22\, CH-4055 Basel
SUMMARY:Schöne Dinge
END:VEVENT
BEGIN:VEVENT
UID:pretix-theater-18.02.2025-4723803@tickets.vorstadttheaterbasel.ch
DTSTART;TZID=Europe/Zurich:20260421T103000
DTEND;TZID=Europe/Zurich:20260421T113000
DESCRIPTION:Tickets: https://tickets.vorstadttheaterbasel.ch/18.02.2025/472
 3803/\nVeranstalter: Vorstadttheater
DTSTAMP:20260420T043741Z
LOCATION:Vorstadttheater Basel\, Allschwilerplatz 22\, CH-4055 Basel\, info
 @vorstadttheaterbasel.ch\, +41 (0)61 272 23 43
SUMMARY:Schöne Dinge (Schulvorstellung)
END:VEVENT
BEGIN:VEVENT
UID:pretix-theater-18.02.2025-4723804@tickets.vorstadttheaterbasel.ch
DTSTART;TZID=Europe/Zurich:20260424T103000
DTEND;TZID=Europe/Zurich:20260424T113000
DESCRIPTION:Tickets: https://tickets.vorstadttheaterbasel.ch/18.02.2025/472
 3804/\nVeranstalter: Vorstadttheater
DTSTAMP:20260420T043741Z
LOCATION:Vorstadttheater Basel\, Allschwilerplatz 22\, CH-4055 Basel\, info
 @vorstadttheaterbasel.ch\, +41 (0)61 272 23 43
SUMMARY:Schöne Dinge (Schulvorstellung)
END:VEVENT
BEGIN:VEVENT
UID:pretix-theater-15.02.2025-4723808@tickets.vorstadttheaterbasel.ch
DTSTART;TZID=Europe/Zurich:20260424T200000
DTEND;TZID=Europe/Zurich:20260424T210000
DESCRIPTION:Tickets: https://tickets.vorstadttheaterbasel.ch/15.02.2025/472
 3808/\nVeranstalter: Vorstadttheater
DTSTAMP:20260420T043741Z
LOCATION:Vorstadttheater Basel\, Allschwilerplatz 22\, CH-4055 Basel
SUMMARY:Schöne Dinge
END:VEVENT
BEGIN:VEVENT
UID:pretix-theater-15.02.2025-4723810@tickets.vorstadttheaterbasel.ch
DTSTART;TZID=Europe/Zurich:20260425T170000
DTEND;TZID=Europe/Zurich:20260425T180000
DESCRIPTION:Tickets: https://tickets.vorstadttheaterbasel.ch/15.02.2025/472
 3810/\nVeranstalter: Vorstadttheater
DTSTAMP:20260420T043741Z
LOCATION:Vorstadttheater Basel\, Allschwilerplatz 22\, CH-4055 Basel
SUMMARY:Schöne Dinge
END:VEVENT
BEGIN:VEVENT
UID:pretix-theater-15.02.2025-4723811@tickets.vorstadttheaterbasel.ch
DTSTART;TZID=Europe/Zurich:20260426T110000
DTEND;TZID=Europe/Zurich:20260426T120000
DESCRIPTION:Tickets: https://tickets.vorstadttheaterbasel.ch/15.02.2025/472
 3811/\nVeranstalter: Vorstadttheater
DTSTAMP:20260420T043741Z
LOCATION:Vorstadttheater Basel\, Allschwilerplatz 22\, CH-4055 Basel
SUMMARY:Schöne Dinge
END:VEVENT
BEGIN:VEVENT
UID:pretix-theater-17.10.2024-4734423@tickets.vorstadttheaterbasel.ch
DTSTART;TZID=Europe/Zurich:20260429T103000
DTEND;TZID=Europe/Zurich:20260429T113000
DESCRIPTION:Tickets: https://tickets.vorstadttheaterbasel.ch/17.10.2024/473
 4423/\nVeranstalter: Vorstadttheater
DTSTAMP:20260420T043741Z
LOCATION:Vorstadttheater Basel\, Allschwilerplatz 22\, CH-4055 Basel\, info
 @vorstadttheaterbasel.ch\, +41 (0)61 272 23 43
SUMMARY:Prinz*in (Schulvorstellung)
END:VEVENT
BEGIN:VEVENT
UID:pretix-theater-17.10.2024-4734424@tickets.vorstadttheaterbasel.ch
DTSTART;TZID=Europe/Zurich:20260430T103000
DTEND;TZID=Europe/Zurich:20260430T113000
DESCRIPTION:Tickets: https://tickets.vorstadttheaterbasel.ch/17.10.2024/473
 4424/\nVeranstalter: Vorstadttheater
DTSTAMP:20260420T043741Z
LOCATION:Vorstadttheater Basel\, Allschwilerplatz 22\, CH-4055 Basel\, info
 @vorstadttheaterbasel.ch\, +41 (0)61 272 23 43
SUMMARY:Prinz*in (Schulvorstellung)
END:VEVENT
BEGIN:VEVENT
UID:pretix-theater-18.10.2024-4734426@tickets.vorstadttheaterbasel.ch
DTSTART;TZID=Europe/Zurich:20260502T180000
DTEND;TZID=Europe/Zurich:20260502T190000
DESCRIPTION:Tickets: https://tickets.vorstadttheaterbasel.ch/18.10.2024/473
 4426/\nVeranstalter: Vorstadttheater
DTSTAMP:20260420T043741Z
LOCATION:Vorstadttheater Basel\, Allschwilerplatz 22\, CH-4055 Basel
SUMMARY:Prinz*in
END:VEVENT
BEGIN:VEVENT
UID:pretix-theater-18.10.2024-4734427@tickets.vorstadttheaterbasel.ch
DTSTART;TZID=Europe/Zurich:20260503T110000
DTEND;TZID=Europe/Zurich:20260503T120000
DESCRIPTION:Tickets: https://tickets.vorstadttheaterbasel.ch/18.10.2024/473
 4427/\nVeranstalter: Vorstadttheater
DTSTAMP:20260420T043741Z
LOCATION:Vorstadttheater Basel\, Allschwilerplatz 22\, CH-4055 Basel
SUMMARY:Prinz*in
END:VEVENT
BEGIN:VEVENT
UID:pretix-theater-10.3.2023-4734428@tickets.vorstadttheaterbasel.ch
DTSTART;TZID=Europe/Zurich:20260516T200000
DTEND;TZID=Europe/Zurich:20260516T210000
DESCRIPTION:Tickets: https://tickets.vorstadttheaterbasel.ch/10.3.2023/4734
 428/\nVeranstalter: Vorstadttheater
DTSTAMP:20260420T043741Z
LOCATION:Vorstadttheater Basel\, Allschwilerplatz 22\, CH-4055 Basel
SUMMARY:Herr Macbeth oder die Schule des Bösen
END:VEVENT
BEGIN:VEVENT
UID:pretix-theater-10.3.2023-4734429@tickets.vorstadttheaterbasel.ch
DTSTART;TZID=Europe/Zurich:20260517T200000
DTEND;TZID=Europe/Zurich:20260517T210000
DESCRIPTION:Tickets: https://tickets.vorstadttheaterbasel.ch/10.3.2023/4734
 429/\nVeranstalter: Vorstadttheater
DTSTAMP:20260420T043741Z
LOCATION:Vorstadttheater Basel\, Allschwilerplatz 22\, CH-4055 Basel
SUMMARY:Herr Macbeth oder die Schule des Bösen
END:VEVENT
BEGIN:VEVENT
UID:pretix-theater-10.3.2023-4734430@tickets.vorstadttheaterbasel.ch
DTSTART;TZID=Europe/Zurich:20260527T200000
DTEND;TZID=Europe/Zurich:20260527T210000
DESCRIPTION:Tickets: https://tickets.vorstadttheaterbasel.ch/10.3.2023/4734
 430/\nVeranstalter: Vorstadttheater
DTSTAMP:20260420T043741Z
LOCATION:Vorstadttheater Basel\, Allschwilerplatz 22\, CH-4055 Basel
SUMMARY:Herr Macbeth oder die Schule des Bösen
END:VEVENT
BEGIN:VEVENT
UID:pretix-theater-10.3.2023-4734431@tickets.vorstadttheaterbasel.ch
DTSTART;TZID=Europe/Zurich:20260528T200000
DTEND;TZID=Europe/Zurich:20260528T210000
DESCRIPTION:Tickets: https://tickets.vorstadttheaterbasel.ch/10.3.2023/4734
 431/\nVeranstalter: Vorstadttheater
DTSTAMP:20260420T043741Z
LOCATION:Vorstadttheater Basel\, Allschwilerplatz 22\, CH-4055 Basel
SUMMARY:Herr Macbeth oder die Schule des Bösen
END:VEVENT
BEGIN:VEVENT
UID:pretix-theater-10.3.2023-4734432@tickets.vorstadttheaterbasel.ch
DTSTART;TZID=Europe/Zurich:20260529T200000
DTEND;TZID=Europe/Zurich:20260529T210000
DESCRIPTION:Tickets: https://tickets.vorstadttheaterbasel.ch/10.3.2023/4734
 432/\nVeranstalter: Vorstadttheater
DTSTAMP:20260420T043741Z
LOCATION:Vorstadttheater Basel\, Allschwilerplatz 22\, CH-4055 Basel
SUMMARY:Herr Macbeth oder die Schule des Bösen
END:VEVENT
BEGIN:VEVENT
UID:pretix-theater-10.3.2023-4734433@tickets.vorstadttheaterbasel.ch
DTSTART;TZID=Europe/Zurich:20260530T200000
DTEND;TZID=Europe/Zurich:20260530T210000
DESCRIPTION:Tickets: https://tickets.vorstadttheaterbasel.ch/10.3.2023/4734
 433/\nVeranstalter: Vorstadttheater
DTSTAMP:20260420T043741Z
LOCATION:Vorstadttheater Basel\, Allschwilerplatz 22\, CH-4055 Basel
SUMMARY:Herr Macbeth oder die Schule des Bösen
END:VEVENT
END:VCALENDAR
